BEGIN:VCALENDAR
VERSION:2.0
PRODID:-//https://www.daiquiridecksiestakey.com///NONSGML kigkonsult.se iCalcreator 2.10.15//
METHOD:PUBLISH
BEGIN:VEVENT
UID:20260424T024828UTC-0795nNXz4h@https://www.daiquiridecksiestakey.com/
DTSTAMP:20260424T024828Z
DESCRIPTION: https://www.daiquiridecksiestakey.com/component/rseventspro/ev
 ent/4158-12p-lonnie-paul?Itemid=217
DTSTART;VALUE=DATE:20260526
LOCATION:Daiquiri Deck Island of Venice (300 W Venice Ave\, Venice\, FL 342
 85)
SUMMARY:12p Lonnie Paul
URL:https://www.daiquiridecksiestakey.com/component/rseventspro/event/4158-
 12p-lonnie-paul?Itemid=217
END:VEVENT
END:VCALENDAR
