BEGIN:VCALENDAR
VERSION:2.0
PRODID:-//https://www.daiquiridecksiestakey.com///NONSGML kigkonsult.se iCalcreator 2.10.15//
METHOD:PUBLISH
BEGIN:VEVENT
UID:20260423T230812UTC-075482T6sj@https://www.daiquiridecksiestakey.com/
DTSTAMP:20260423T230812Z
DESCRIPTION: https://www.daiquiridecksiestakey.com/component/rseventspro/ev
 ent/4156-4p-maddie-lin?Itemid=217
DTSTART;VALUE=DATE:20260524
LOCATION:Daiquiri Deck Island of Venice (300 W Venice Ave\, Venice\, FL 342
 85)
SUMMARY:4p Maddie Lin
URL:https://www.daiquiridecksiestakey.com/component/rseventspro/event/4156-
 4p-maddie-lin?Itemid=217
END:VEVENT
END:VCALENDAR
