BEGIN:VCALENDAR
VERSION:2.0
PRODID:-//https://www.daiquiridecksiestakey.com///NONSGML kigkonsult.se iCalcreator 2.10.15//
METHOD:PUBLISH
BEGIN:VEVENT
UID:20260423T213519UTC-8629BCvUPO@https://www.daiquiridecksiestakey.com/
DTSTAMP:20260423T213519Z
DESCRIPTION: https://www.daiquiridecksiestakey.com/component/rseventspro/ev
 ent/4155-5p-kevin-thompson?Itemid=217
DTSTART;VALUE=DATE:20260523
LOCATION:Daiquiri Deck Island of Venice (300 W Venice Ave\, Venice\, FL 342
 85)
SUMMARY:5p Kevin Thompson
URL:https://www.daiquiridecksiestakey.com/component/rseventspro/event/4155-
 5p-kevin-thompson?Itemid=217
END:VEVENT
END:VCALENDAR
