BEGIN:VCALENDAR
VERSION:2.0
PRODID:-//https://www.daiquiridecksiestakey.com///NONSGML kigkonsult.se iCalcreator 2.10.15//
METHOD:PUBLISH
BEGIN:VEVENT
UID:20260423T181245UTC-0849wdWrwU@https://www.daiquiridecksiestakey.com/
DTSTAMP:20260423T181245Z
DESCRIPTION: https://www.daiquiridecksiestakey.com/component/rseventspro/ev
 ent/4153-4p-gary-alexander?Itemid=217
DTSTART;VALUE=DATE:20260521
LOCATION:Daiquiri Deck Island of Venice (300 W Venice Ave\, Venice\, FL 342
 85)
SUMMARY:4p Gary Alexander
URL:https://www.daiquiridecksiestakey.com/component/rseventspro/event/4153-
 4p-gary-alexander?Itemid=217
END:VEVENT
END:VCALENDAR
