BEGIN:VCALENDAR
VERSION:2.0
PRODID:-//https://www.daiquiridecksiestakey.com///NONSGML kigkonsult.se iCalcreator 2.10.15//
METHOD:PUBLISH
BEGIN:VEVENT
UID:20260422T095329UTC-9888OkNflu@https://www.daiquiridecksiestakey.com/
DTSTAMP:20260422T095329Z
DESCRIPTION: https://www.daiquiridecksiestakey.com/component/rseventspro/ev
 ent/4150-12p-joey-d?Itemid=217
DTSTART;VALUE=DATE:20260518
LOCATION:Daiquiri Deck Island of Venice (300 W Venice Ave\, Venice\, FL 342
 85)
SUMMARY:12p Joey D
URL:https://www.daiquiridecksiestakey.com/component/rseventspro/event/4150-
 12p-joey-d?Itemid=217
END:VEVENT
END:VCALENDAR
