BEGIN:VCALENDAR
VERSION:2.0
PRODID:-//https://www.daiquiridecksiestakey.com///NONSGML kigkonsult.se iCalcreator 2.10.15//
METHOD:PUBLISH
BEGIN:VEVENT
UID:20260422T082721UTC-6155N5kJ26@https://www.daiquiridecksiestakey.com/
DTSTAMP:20260422T082721Z
DESCRIPTION: https://www.daiquiridecksiestakey.com/component/rseventspro/ev
 ent/4149-5p-jay-simon?Itemid=217
DTSTART;VALUE=DATE:20260517
LOCATION:Daiquiri Deck Island of Venice (300 W Venice Ave\, Venice\, FL 342
 85)
SUMMARY:5p Jay Simon
URL:https://www.daiquiridecksiestakey.com/component/rseventspro/event/4149-
 5p-jay-simon?Itemid=217
END:VEVENT
END:VCALENDAR
