BEGIN:VCALENDAR
VERSION:2.0
PRODID:-//https://www.daiquiridecksiestakey.com///NONSGML kigkonsult.se iCalcreator 2.10.15//
METHOD:PUBLISH
BEGIN:VEVENT
UID:20260422T041841UTC-3023xGLswW@https://www.daiquiridecksiestakey.com/
DTSTAMP:20260422T041841Z
DESCRIPTION: https://www.daiquiridecksiestakey.com/component/rseventspro/ev
 ent/4147-5p-jake-ariel?Itemid=217
DTSTART;VALUE=DATE:20260515
LOCATION:Daiquiri Deck Island of Venice (300 W Venice Ave\, Venice\, FL 342
 85)
SUMMARY:5p Jake & Ariel
URL:https://www.daiquiridecksiestakey.com/component/rseventspro/event/4147-
 5p-jake-ariel?Itemid=217
END:VEVENT
END:VCALENDAR
