BEGIN:VCALENDAR
VERSION:2.0
PRODID:-//https://www.daiquiridecksiestakey.com///NONSGML kigkonsult.se iCalcreator 2.10.15//
METHOD:PUBLISH
BEGIN:VEVENT
UID:20260422T004908UTC-1795dR3pn8@https://www.daiquiridecksiestakey.com/
DTSTAMP:20260422T004908Z
DESCRIPTION: https://www.daiquiridecksiestakey.com/component/rseventspro/ev
 ent/4145-4p-gulf-coastin-life?Itemid=217
DTSTART;VALUE=DATE:20260513
LOCATION:Daiquiri Deck Island of Venice (300 W Venice Ave\, Venice\, FL 342
 85)
SUMMARY:4p Gulf Coastin.Life
URL:https://www.daiquiridecksiestakey.com/component/rseventspro/event/4145-
 4p-gulf-coastin-life?Itemid=217
END:VEVENT
END:VCALENDAR
