BEGIN:VCALENDAR
VERSION:2.0
PRODID:-//https://www.daiquiridecksiestakey.com///NONSGML kigkonsult.se iCalcreator 2.10.15//
METHOD:PUBLISH
BEGIN:VEVENT
UID:20260421T155616UTC-4776VuVrl1@https://www.daiquiridecksiestakey.com/
DTSTAMP:20260421T155616Z
DESCRIPTION: https://www.daiquiridecksiestakey.com/component/rseventspro/ev
 ent/4142-12p-groove-circle?Itemid=217
DTSTART;VALUE=DATE:20260510
LOCATION:Daiquiri Deck Island of Venice (300 W Venice Ave\, Venice\, FL 342
 85)
SUMMARY:12p Groove Circle
URL:https://www.daiquiridecksiestakey.com/component/rseventspro/event/4142-
 12p-groove-circle?Itemid=217
END:VEVENT
END:VCALENDAR
