BEGIN:VCALENDAR
VERSION:2.0
PRODID:-//https://www.daiquiridecksiestakey.com///NONSGML kigkonsult.se iCalcreator 2.10.15//
METHOD:PUBLISH
BEGIN:VEVENT
UID:20260421T133239UTC-54342DtVpb@https://www.daiquiridecksiestakey.com/
DTSTAMP:20260421T133239Z
DESCRIPTION: https://www.daiquiridecksiestakey.com/component/rseventspro/ev
 ent/4141-6p-scott-lawrence?Itemid=217
DTSTART;VALUE=DATE:20260509
LOCATION:Daiquiri Deck Island of Venice (300 W Venice Ave\, Venice\, FL 342
 85)
SUMMARY:6p Scott Lawrence
URL:https://www.daiquiridecksiestakey.com/component/rseventspro/event/4141-
 6p-scott-lawrence?Itemid=217
END:VEVENT
END:VCALENDAR
