BEGIN:VCALENDAR
VERSION:2.0
PRODID:-//https://www.daiquiridecksiestakey.com///NONSGML kigkonsult.se iCalcreator 2.10.15//
METHOD:PUBLISH
BEGIN:VEVENT
UID:20260425T145039UTC-889821ETUO@https://www.daiquiridecksiestakey.com/
DTSTAMP:20260425T145039Z
DESCRIPTION: https://www.daiquiridecksiestakey.com/component/rseventspro/ev
 ent/3983-9p-dj-truth?Itemid=217
DTSTART;VALUE=DATE:20260501
LOCATION:Daiquiri Deck Siesta Key Village (5250 Ocean Blvd\, Sarasota\, FL 
 34242)
SUMMARY: 9p DJ Truth
URL:https://www.daiquiridecksiestakey.com/component/rseventspro/event/3983-
 9p-dj-truth?Itemid=217
END:VEVENT
END:VCALENDAR
