BEGIN:VCALENDAR
VERSION:2.0
PRODID:-//https://www.daiquiridecksiestakey.com///NONSGML kigkonsult.se iCalcreator 2.10.15//
METHOD:PUBLISH
BEGIN:VEVENT
UID:20260425T145358UTC-9532rdrbZD@https://www.daiquiridecksiestakey.com/
DTSTAMP:20260425T145358Z
DESCRIPTION: https://www.daiquiridecksiestakey.com/component/rseventspro/ev
 ent/3982-3p-lynn-andrew-duo?Itemid=217
DTSTART;VALUE=DATE:20260501
LOCATION:Daiquiri Deck Siesta Key Village (5250 Ocean Blvd\, Sarasota\, FL 
 34242)
SUMMARY:3p Lynn & Andrew Duo  
URL:https://www.daiquiridecksiestakey.com/component/rseventspro/event/3982-
 3p-lynn-andrew-duo?Itemid=217
END:VEVENT
END:VCALENDAR
